BEGIN:VCALENDAR
VERSION:2.0
PRODID:-//2Me Travel - ECPv6.15.20//NONSGML v1.0//EN
CALSCALE:GREGORIAN
METHOD:PUBLISH
X-WR-CALNAME:2Me Travel
X-ORIGINAL-URL:https://2me.travel
X-WR-CALDESC:Events for 2Me Travel
REFRESH-INTERVAL;VALUE=DURATION:PT1H
X-Robots-Tag:noindex
X-PUBLISHED-TTL:PT1H
BEGIN:VTIMEZONE
TZID:America/Denver
BEGIN:DAYLIGHT
TZOFFSETFROM:-0700
TZOFFSETTO:-0600
TZNAME:MDT
DTSTART:20220313T090000
END:DAYLIGHT
BEGIN:STANDARD
TZOFFSETFROM:-0600
TZOFFSETTO:-0700
TZNAME:MST
DTSTART:20221106T080000
END:STANDARD
BEGIN:DAYLIGHT
TZOFFSETFROM:-0700
TZOFFSETTO:-0600
TZNAME:MDT
DTSTART:20230312T090000
END:DAYLIGHT
BEGIN:STANDARD
TZOFFSETFROM:-0600
TZOFFSETTO:-0700
TZNAME:MST
DTSTART:20231105T080000
END:STANDARD
BEGIN:DAYLIGHT
TZOFFSETFROM:-0700
TZOFFSETTO:-0600
TZNAME:MDT
DTSTART:20240310T090000
END:DAYLIGHT
BEGIN:STANDARD
TZOFFSETFROM:-0600
TZOFFSETTO:-0700
TZNAME:MST
DTSTART:20241103T080000
END:STANDARD
END:VTIMEZONE
BEGIN:VEVENT
DTSTART;VALUE=DATE:20230312
DTEND;VALUE=DATE:20230318
DTSTAMP:20260425T143501
CREATED:20230131T215616Z
LAST-MODIFIED:20230202T134753Z
UID:10007843-1678579200-1679097599@2me.travel
SUMMARY:Explore Ottawa!
DESCRIPTION:Sold out!
URL:https://2me.travel/tour/explore-ottawa/
CATEGORIES:Ottawa
ATTACH;FMTTYPE=image/jpeg:https://2me.travel/wp-content/uploads/2023/01/GettyImages-1212275972.jpg
END:VEVENT
BEGIN:VEVENT
DTSTART;TZID=America/Denver:20230317T151500
DTEND;TZID=America/Denver:20230317T154500
DTSTAMP:20260425T143501
CREATED:20221229T142233Z
LAST-MODIFIED:20221229T142425Z
UID:10005828-1679066100-1679067900@2me.travel
SUMMARY:Discussing Irish roots on St. Patrick's Day
DESCRIPTION:Happy St. Patrick’s day. As my father was Irish I thought it may be fun to connect for a conversation about the Irish emigrant experience and how the identity of the diaspora has changed over time. Not sure where I’ll be\, but I’m back to Ireland almost every year.
URL:https://2me.travel/tour/discussing-irish-roots-on-st-patricks-day/
CATEGORIES:Virtual
ATTACH;FMTTYPE=image/jpeg:https://2me.travel/wp-content/uploads/2022/12/St-Patgricks-Day.jpg
END:VEVENT
END:VCALENDAR