BEGIN:VCALENDAR
VERSION:2.0
PRODID:-//2Me Travel - ECPv6.15.20//NONSGML v1.0//EN
CALSCALE:GREGORIAN
METHOD:PUBLISH
X-ORIGINAL-URL:https://2me.travel
X-WR-CALDESC:Events for 2Me Travel
REFRESH-INTERVAL;VALUE=DURATION:PT1H
X-Robots-Tag:noindex
X-PUBLISHED-TTL:PT1H
BEGIN:VTIMEZONE
TZID:America/Denver
BEGIN:DAYLIGHT
TZOFFSETFROM:-0700
TZOFFSETTO:-0600
TZNAME:MDT
DTSTART:20220313T090000
END:DAYLIGHT
BEGIN:STANDARD
TZOFFSETFROM:-0600
TZOFFSETTO:-0700
TZNAME:MST
DTSTART:20221106T080000
END:STANDARD
BEGIN:DAYLIGHT
TZOFFSETFROM:-0700
TZOFFSETTO:-0600
TZNAME:MDT
DTSTART:20230312T090000
END:DAYLIGHT
BEGIN:STANDARD
TZOFFSETFROM:-0600
TZOFFSETTO:-0700
TZNAME:MST
DTSTART:20231105T080000
END:STANDARD
BEGIN:DAYLIGHT
TZOFFSETFROM:-0700
TZOFFSETTO:-0600
TZNAME:MDT
DTSTART:20240310T090000
END:DAYLIGHT
BEGIN:STANDARD
TZOFFSETFROM:-0600
TZOFFSETTO:-0700
TZNAME:MST
DTSTART:20241103T080000
END:STANDARD
END:VTIMEZONE
BEGIN:VEVENT
DTSTART;TZID=America/Denver:20230320T151500
DTEND;TZID=America/Denver:20230320T160000
DTSTAMP:20260425T130330
CREATED:20221229T142822Z
LAST-MODIFIED:20221229T142822Z
UID:10005829-1679325300-1679328000@2me.travel
SUMMARY:International Happiness Day!
DESCRIPTION:It just seems appropriate that we celebrate a day of happiness 🙂 Let’s discuss measures of happiness and have a laugh… (Not sure where I’ll be!)
URL:https://2me.travel/tour/international-happiness-day/
CATEGORIES:Virtual
ATTACH;FMTTYPE=image/jpeg:https://2me.travel/wp-content/uploads/2022/10/DBCCFA5D-9F2A-4D0B-8F4C-18EB47DA7939_1_105_c.jpeg
END:VEVENT
BEGIN:VEVENT
DTSTART;TZID=America/Denver:20230321T151500
DTEND;TZID=America/Denver:20230321T160000
DTSTAMP:20260425T130330
CREATED:20221229T143010Z
LAST-MODIFIED:20221229T143010Z
UID:10005830-1679411700-1679414400@2me.travel
SUMMARY:World Poetry Day
DESCRIPTION:
URL:https://2me.travel/tour/world-poetry-day/
CATEGORIES:Virtual
ATTACH;FMTTYPE=image/jpeg:https://2me.travel/wp-content/uploads/2022/12/World-Poetry-Day.jpg
END:VEVENT
END:VCALENDAR