BEGIN:VCALENDAR
VERSION:2.0
PRODID:-//2Me Travel - ECPv6.15.20//NONSGML v1.0//EN
CALSCALE:GREGORIAN
METHOD:PUBLISH
X-ORIGINAL-URL:https://2me.travel
X-WR-CALDESC:Events for 2Me Travel
REFRESH-INTERVAL;VALUE=DURATION:PT1H
X-Robots-Tag:noindex
X-PUBLISHED-TTL:PT1H
BEGIN:VTIMEZONE
TZID:America/Denver
BEGIN:DAYLIGHT
TZOFFSETFROM:-0700
TZOFFSETTO:-0600
TZNAME:MDT
DTSTART:20220313T090000
END:DAYLIGHT
BEGIN:STANDARD
TZOFFSETFROM:-0600
TZOFFSETTO:-0700
TZNAME:MST
DTSTART:20221106T080000
END:STANDARD
BEGIN:DAYLIGHT
TZOFFSETFROM:-0700
TZOFFSETTO:-0600
TZNAME:MDT
DTSTART:20230312T090000
END:DAYLIGHT
BEGIN:STANDARD
TZOFFSETFROM:-0600
TZOFFSETTO:-0700
TZNAME:MST
DTSTART:20231105T080000
END:STANDARD
BEGIN:DAYLIGHT
TZOFFSETFROM:-0700
TZOFFSETTO:-0600
TZNAME:MDT
DTSTART:20240310T090000
END:DAYLIGHT
BEGIN:STANDARD
TZOFFSETFROM:-0600
TZOFFSETTO:-0700
TZNAME:MST
DTSTART:20241103T080000
END:STANDARD
END:VTIMEZONE
BEGIN:VEVENT
DTSTART;TZID=America/Denver:20230401T120000
DTEND;TZID=America/Denver:20230401T124500
DTSTAMP:20260425T113859
CREATED:20230103T093059Z
LAST-MODIFIED:20230103T093059Z
UID:10005841-1680350400-1680353100@2me.travel
SUMMARY:Utter Nonsense Tour
DESCRIPTION:Fake News! You’ll see right through it .. or will you ? Who needs to be guided by ‘facts’ and ‘research’ ? Come along to laugh\, play and to try and find a grain of truth within the cacophony of blinding BS 🙂
URL:https://2me.travel/tour/utter-nonsense-tour/
CATEGORIES:Virtual
ATTACH;FMTTYPE=image/jpeg:https://2me.travel/wp-content/uploads/2023/01/UtterNonsense.jpg
END:VEVENT
END:VCALENDAR