BEGIN:VCALENDAR
VERSION:2.0
PRODID:-//2Me Travel - ECPv6.15.20//NONSGML v1.0//EN
CALSCALE:GREGORIAN
METHOD:PUBLISH
X-ORIGINAL-URL:https://2me.travel
X-WR-CALDESC:Events for 2Me Travel
REFRESH-INTERVAL;VALUE=DURATION:PT1H
X-Robots-Tag:noindex
X-PUBLISHED-TTL:PT1H
BEGIN:VTIMEZONE
TZID:America/Denver
BEGIN:DAYLIGHT
TZOFFSETFROM:-0700
TZOFFSETTO:-0600
TZNAME:MDT
DTSTART:20220313T090000
END:DAYLIGHT
BEGIN:STANDARD
TZOFFSETFROM:-0600
TZOFFSETTO:-0700
TZNAME:MST
DTSTART:20221106T080000
END:STANDARD
BEGIN:DAYLIGHT
TZOFFSETFROM:-0700
TZOFFSETTO:-0600
TZNAME:MDT
DTSTART:20230312T090000
END:DAYLIGHT
BEGIN:STANDARD
TZOFFSETFROM:-0600
TZOFFSETTO:-0700
TZNAME:MST
DTSTART:20231105T080000
END:STANDARD
BEGIN:DAYLIGHT
TZOFFSETFROM:-0700
TZOFFSETTO:-0600
TZNAME:MDT
DTSTART:20240310T090000
END:DAYLIGHT
BEGIN:STANDARD
TZOFFSETFROM:-0600
TZOFFSETTO:-0700
TZNAME:MST
DTSTART:20241103T080000
END:STANDARD
END:VTIMEZONE
BEGIN:VEVENT
DTSTART;VALUE=DATE:20230907
DTEND;VALUE=DATE:20230918
DTSTAMP:20260423T051646
CREATED:20230215T232437Z
LAST-MODIFIED:20230215T232437Z
UID:10007853-1694044800-1694995199@2me.travel
SUMMARY:Banff - Glacier - Yellowstone - Jackson
DESCRIPTION:Take in the highlights of some of North America’s most alluring national parks on this immersive\, multi-country journey. Discover breathtaking wildlife and geographic diversity as you make your way from the Canadian Rockies to the Grand Tetons. Scenic drives\, jewel-colored lakes\, geothermal marvels\, snowy summits—this tour’s extraordinary landscapes and natural wonders are sure to leave you in awe. \nGo to the link below to see the full itinerary\, details and pricing! \nBOOK HERE!
URL:https://2me.travel/tour/banff-glacier-yellowstone-jackson-2/
CATEGORIES:Banff - Glacier - Yellowstone - Jackson
ATTACH;FMTTYPE=image/jpeg:https://2me.travel/wp-content/uploads/2023/01/GettyImages-545441968.jpg
END:VEVENT
END:VCALENDAR