BEGIN:VCALENDAR
VERSION:2.0
PRODID:-//2Me Travel - ECPv6.15.20//NONSGML v1.0//EN
CALSCALE:GREGORIAN
METHOD:PUBLISH
X-WR-CALNAME:2Me Travel
X-ORIGINAL-URL:https://2me.travel
X-WR-CALDESC:Events for 2Me Travel
REFRESH-INTERVAL;VALUE=DURATION:PT1H
X-Robots-Tag:noindex
X-PUBLISHED-TTL:PT1H
BEGIN:VTIMEZONE
TZID:America/Denver
BEGIN:DAYLIGHT
TZOFFSETFROM:-0700
TZOFFSETTO:-0600
TZNAME:MDT
DTSTART:20230312T090000
END:DAYLIGHT
BEGIN:STANDARD
TZOFFSETFROM:-0600
TZOFFSETTO:-0700
TZNAME:MST
DTSTART:20231105T080000
END:STANDARD
BEGIN:DAYLIGHT
TZOFFSETFROM:-0700
TZOFFSETTO:-0600
TZNAME:MDT
DTSTART:20240310T090000
END:DAYLIGHT
BEGIN:STANDARD
TZOFFSETFROM:-0600
TZOFFSETTO:-0700
TZNAME:MST
DTSTART:20241103T080000
END:STANDARD
BEGIN:DAYLIGHT
TZOFFSETFROM:-0700
TZOFFSETTO:-0600
TZNAME:MDT
DTSTART:20250309T090000
END:DAYLIGHT
BEGIN:STANDARD
TZOFFSETFROM:-0600
TZOFFSETTO:-0700
TZNAME:MST
DTSTART:20251102T080000
END:STANDARD
END:VTIMEZONE
BEGIN:VEVENT
DTSTART;VALUE=DATE:20240924
DTEND;VALUE=DATE:20240930
DTSTAMP:20260422T111146
CREATED:20240610T182755Z
LAST-MODIFIED:20240721T091328Z
UID:10008416-1727136000-1727654399@2me.travel
SUMMARY:Banff National Park - Custom Tour
DESCRIPTION:
URL:https://2me.travel/tour/banff/
ATTACH;FMTTYPE=image/webp:https://2me.travel/wp-content/uploads/2023/05/Peyto-Lake-in-Summer.jpeg-1.webp
END:VEVENT
BEGIN:VEVENT
DTSTART;VALUE=DATE:20240930
DTEND;VALUE=DATE:20241008
DTSTAMP:20260422T111146
CREATED:20231026T205521Z
LAST-MODIFIED:20241006T154047Z
UID:10008415-1727654400-1728345599@2me.travel
SUMMARY:Cape Cod - Private Tour -POSTPONED
DESCRIPTION:
URL:https://2me.travel/tour/tba/
ATTACH;FMTTYPE=image/jpeg:https://2me.travel/wp-content/uploads/2024/07/portland-head-light-5539153_640.jpg
END:VEVENT
END:VCALENDAR